BEGIN:VCALENDAR
VERSION:2.0
PRODID:-//eventon.com NONSGML v1.0//EN
BEGIN:VEVENT
UID:69e7449dc5b25
DTSTAMP:20260421T113421
DTSTART:20251231T080000Z
DTEND:20251231T225000Z
TZID:Europe/Berlin
LOCATION:Neue Linie 1 Neue Linie 1\,  Leipzig
SUMMARY:Mittwoch Training (Fockeberg)
DESCRIPTION: Liebe Sportfreunde\,  Hiermit lade ich Euch zu unserem nächsten Training am Mittwoch ein. Start: 09:00 Uhr vor dem Eingang Fockerbergstrasse. Treff: ca. 20 Minuten vorher in den neuen Umkleideräumen der Sportanlage. Gelaufen wird je nach Jahreszeit und Witterung die Sommer- oder die Winterrunde. &#8230; im Anschluss Besprechung im Vereinsraum. Viel[..]\nhttps://laufgruppe-lvb.bplaced.net/wordpress/events/mittwoch-training-fockeberg/
URL:https://laufgruppe-lvb.bplaced.net/wordpress/events/mittwoch-training-fockeberg/
END:VEVENT
END:VCALENDAR