BEGIN:VCALENDAR
VERSION:2.0
PRODID:-//eventon.com NONSGML v1.0//EN
BEGIN:VEVENT
UID:69e73162672a4
DTSTAMP:20260421T101218
DTSTART:20260509T080000Z
DTEND:20260509T215000Z
TZID:Europe/Berlin
LOCATION:Sportplatz Neue Linie Neue Linie 1\,  04277 Leipzig
SUMMARY:5. BärlauchblütenLauf
DESCRIPTION: Der Bärlauchblütenlauf ist ab 2022 der &#8220;Ersatz&#8221; für unseren Silberseelauf den wir nicht mehr durchführen werden. Wir bieten einen Lauf im schönen Auewald an. Start und Ziel ist der Sportplatz NEUE Linie. Wir wollen die Strecken: Bambini / 5km / 10km / 20km anbieten. Mit deisem Lauf bewerben wir für[..]\nhttps://laufgruppe-lvb.bplaced.net/wordpress/events/5-baerlauchbluetenlauf-copy/
URL:https://laufgruppe-lvb.bplaced.net/wordpress/events/5-baerlauchbluetenlauf-copy/
END:VEVENT
END:VCALENDAR