BEGIN:VCALENDAR
VERSION:2.0
PRODID:-//eventon.com NONSGML v1.0//EN
BEGIN:VEVENT
UID:69e75a4d37424
DTSTAMP:20260421T130653
DTSTART:20260330T153000Z
DTEND:20260330T215000Z
TZID:Europe/Berlin
LOCATION:Neue Linie 1 Neue Linie 1\,  Leipzig
SUMMARY:Training (Winterrunde)
DESCRIPTION: Liebe Sportfreunde\,  Hiermit lade ich Euch zu unserem nächsten Training am Montag ein. Start: 17:30 Uhr vor dem Vereinsgebäude LVB Neue Linie. Treff: ca. 20 Minuten vorher in den neuen Umkleideräumen der Sportanlage. Gelaufen wird je nach Jahreszeit und Witterung die Sommer- oder die Winterrunde. &#8230; im Anschluss Besprechung im Vereinsraum.[..]\nhttps://laufgruppe-lvb.bplaced.net/wordpress/events/training-winterrunde/var/ri-13.l-L1
URL:https://laufgruppe-lvb.bplaced.net/wordpress/events/training-winterrunde/var/ri-13.l-L1
END:VEVENT
END:VCALENDAR