BEGIN:VCALENDAR
VERSION:2.0
PRODID:-//eventon.com NONSGML v1.0//EN
BEGIN:VEVENT
UID:69e75cc5b2b89
DTSTAMP:20260421T131725
DTSTART:20251229T163000Z
DTEND:20251229T225000Z
TZID:Europe/Berlin
LOCATION:Neue Linie 1 Neue Linie 1\,  Leipzig
SUMMARY:Training (Winterrunde)
DESCRIPTION: Liebe Sportfreunde\,  Hiermit lade ich Euch zu unserem nächsten Training am Montag ein. Start: 17:30 Uhr vor dem Vereinsgebäude LVB Neue Linie. Treff: ca. 20 Minuten vorher in den neuen Umkleideräumen der Sportanlage. Gelaufen wird je nach Jahreszeit und Witterung die Sommer- oder die Winterrunde. &#8230; im Anschluss Besprechung im Vereinsraum.[..]\nhttps://laufgruppe-lvb.bplaced.net/wordpress/events/training-winterrunde/
URL:https://laufgruppe-lvb.bplaced.net/wordpress/events/training-winterrunde/
END:VEVENT
END:VCALENDAR